2.43840000
0.00000000
0.00000000
-2.43840000
590371.28936314
4803777.90996465
